Workbook
Name CosteBásicoPorInvitado: ('Venue & others'!$C$15+'Venue & others'!$C$23+'Venue & others'!$C$31)/'Party Overview'!$E$11
Name EncabezadoTabla1: 'Venue & others'!$B$7
Name EncabezadoTabla2: 'Venue & others'!$B$18
Name InvitadosConfirmados: 'Party Overview'!$E$11
Name RSVPPendientes: COUNTIF('Guest List'!$I$8:$I$22,"<>"&"*")
Name Table3Header: 'Venue & others'!$B$26
Name TotalAdultos: 'Party Overview'!$E$9
Name TotalNiños: 'Party Overview'!$E$10

Sheet Party Overview
C1: Party Overview
B6: EVENT | D6: VARIABLE COST; BUDGET PER GUEST
B7: Mermaid party / Birthday party | D7: OVERVIEW | F7: BUDGET PER GUEST | H7: BUDGET
D8: Confirmed guests | E8: Total | F8: Food | G8: Others | H8: Total2
B9: DATE | D9: Adultos | E9: =SUMIF('Guest List'!$I$8:$I$22,"=Yes",'Guest List'!$K$8:$K$22) -> 26 | F9: ='Food & drinks'!$I$25 -> 12.690089 | G9: =CosteBásicoPorInvitado -> 18.695652 | H9: =('Party Overview'!$F9+'Party Overview'!$G9)*TotalAdultos -> 816.02927
B10: 16 August of 2019 | D10: Niños | E10: =SUMIF('Guest List'!$I$8:$I$22,"=Yes",'Guest List'!$J$8:$J$22) -> 20 | F10: ='Food & drinks'!$H$25 -> 7.2528842 | G10: =CosteBásicoPorInvitado -> 18.695652 | H10: =('Party Overview'!$F10+'Party Overview'!$G10)*TotalNiños -> 518.97073
D11: Total | E11: =SUBTOTAL(109,E9:E10) -> 46 | F11: ="Prom. "&TEXT(SUBTOTAL(101,F9:F10),"#.##0,00 €") -> Prom. 9,97 € | G11: ="Prom. "&TEXT(SUBTOTAL(101,G9:G10),"#.##0,00 €") -> Prom. 18,70 € | H11: =SUBTOTAL(109,H9:H10) -> 1335
B12: TIME
B13: From: 12.00 to: 17:00
B15: PLACE | D15: FIX COST
B16: Susan's house | D16: ITEM | E16: COUNT | F16: BUDGET | G16: TOTAL COST | H16: DIFFERENCE
D17: Comida y bebida | E17: =COUNTA('Food & drinks'!$B$7:$B$24) -> 18 | F17: 500 | G17: ='Food & drinks'!$C$25 -> 475 | H17: ='Party Overview'!$F17-'Party Overview'!$G17 -> 25
D18: =EncabezadoTabla1 -> Venue and equipment | E18: =COUNTA('Venue & others'!$B$8:$B$14) -> 7 | F18: 400 | G18: ='Venue & others'!$C$15 -> 400 | H18: ='Party Overview'!$F18-'Party Overview'!$G18 -> 0
D19: =EncabezadoTabla2 -> Decoration | E19: =COUNTA('Venue & others'!$B$19:$B$22) -> 4 | F19: 150 | G19: ='Venue & others'!$C$23 -> 175 | H19: ='Party Overview'!$F19-'Party Overview'!$G19 -> -25
D20: =Table3Header -> Others | E20: =COUNTA('Venue & others'!$B$27:$B$30) -> 4 | F20: 300 | G20: ='Venue & others'!$C$31 -> 285 | H20: ='Party Overview'!$F20-'Party Overview'!$G20 -> 15
D21: Total | E21: =SUBTOTAL(109,E17:E20) -> 33 | F21: =SUBTOTAL(109,F17:F20) -> 1350 | G21: =SUBTOTAL(109,G17:G20) -> 1335 | H21: =F21-G21 -> 15

Sheet Guest List
C1: Guest List
B7: FAMILY / NAME | C7: ADDRESS | D7: CITY | E7: STATE | F7: POSTAL CODE | G7: PHONE NO | H7: E-MAIL | I7: CONFIRMED? | J7: KIDS | K7: ADULTS | L7: TOTAL
B8: Family 1 | C8: Address 1 | D8: City 1 | E8: State 1 | F8: Postal code 1 | G8: Phone 1 | H8: e-mail@gmail.com | I8: No | J8: 2 | K8: 2 | L8: =SUM('Guest List'!$J8:$K8) -> 4
B9: Family 2 | C9: Address 2 | D9: City 2 | E9: State 2 | F9: Postal code 2 | G9: Phone 2 | H9: e-mail@gmail.com | I9: Yes | J9: 1 | K9: 1 | L9: =SUM('Guest List'!$J9:$K9) -> 2
B10: Family 3 | C10: Address 3 | D10: City 3 | E10: State 3 | F10: Postal code 3 | G10: Phone 3 | H10: e-mail@gmail.com | I10: Yes | J10: 3 | K10: 3 | L10: =SUM('Guest List'!$J10:$K10) -> 6
B11: Family 4 | C11: Address 4 | D11: City 4 | E11: State 4 | F11: Postal code 4 | G11: Phone 4 | H11: e-mail@gmail.com | K11: 2 | L11: =SUM('Guest List'!$J11:$K11) -> 2
B12: Family 5 | C12: Address 5 | D12: City 5 | E12: State 5 | F12: Postal code 5 | G12: Phone 5 | H12: e-mail@gmail.com | I12: Yes | J12: 4 | K12: 3 | L12: =SUM('Guest List'!$J12:$K12) -> 7
B13: Family 6 | C13: Address 6 | D13: City 6 | E13: State 6 | F13: Postal code 6 | G13: Phone 6 | H13: e-mail@gmail.com | I13: Yes | J13: 2 | K13: 2 | L13: =SUM('Guest List'!$J13:$K13) -> 4
B14: Family 7 | C14: Address 7 | D14: City 7 | E14: State 7 | F14: Postal code 7 | G14: Phone 7 | H14: e-mail@gmail.com | I14: Yes | J14: 1 | K14: 4 | L14: =SUM('Guest List'!$J14:$K14) -> 5
B15: Family 8 | C15: Address 8 | D15: City 8 | E15: State 8 | F15: Postal code 8 | G15: Phone 8 | H15: e-mail@gmail.com | I15: No | J15: 5 | K15: 3 | L15: =SUM('Guest List'!$J15:$K15) -> 8
B16: Family 9 | C16: Address 9 | D16: City 9 | E16: State 9 | F16: Postal code 9 | G16: Phone 9 | H16: e-mail@gmail.com | I16: Yes | J16: 3 | K16: 2 | L16: =SUM('Guest List'!$J16:$K16) -> 5
B17: Family 10 | C17: Address 10 | D17: City 10 | E17: State 10 | F17: Postal code 10 | G17: Phone 10 | H17: e-mail@gmail.com | I17: Yes | K17: 4 | L17: =SUM('Guest List'!$J17:$K17) -> 4
B18: Family 11 | C18: Address 11 | D18: City 11 | E18: State 11 | F18: Postal code 11 | G18: Phone 11 | H18: e-mail@gmail.com | I18: Yes | J18: 3 | K18: 5 | L18: =SUM('Guest List'!$J18:$K18) -> 8
B19: Family 12 | C19: Address 12 | D19: City 12 | E19: State 12 | F19: Postal code 12 | G19: Phone 12 | H19: e-mail@gmail.com | I19: No | J19: 2 | K19: 3 | L19: =SUM('Guest List'!$J19:$K19) -> 5
B20: Family 13 | C20: Address 13 | D20: City 13 | E20: State 13 | F20: Postal code 13 | G20: Phone 13 | H20: e-mail@gmail.com | I20: Yes | J20: 3 | K20: 2 | L20: =SUM('Guest List'!$J20:$K20) -> 5
B21: Family 14 | C21: Address 14 | D21: City 14 | E21: State 14 | F21: Postal code 14 | G21: Phone 14 | H21: e-mail@gmail.com | I21: No | K21: 1 | L21: =SUM('Guest List'!$J21:$K21) -> 1
B22: Family 15 | C22: Address 15 | D22: City 15 | E22: State 15 | F22: Postal code 15 | G22: Phone 15 | H22: e-mail@gmail.com | K22: 2 | L22: =SUM('Guest List'!$J22:$K22) -> 2

Sheet Food & drinks
C1: Food & Drinks
B5: Please input the cost and the aproximate helping to calculate the total count of units and cost using the total numebr of attendants.
B6: FOOD & DRINK ITEMS | C6: TOTAL COST | D6: KID HELPING | E6: ADULT HELPING | F6: TOTAL No of HELPINGS | G6: COST PER HELPING | H6: COST PER KID | I6: COST PER ADULT | J6: NOTES
B7: Coke | C7: 15 | D7: 0.5 | E7: 2 | F7: =('Food & drinks'!$D7*TotalNiños)+('Food & drinks'!$E7*TotalAdultos) -> 62 | G7: =IFERROR('Food & drinks'!$C7/'Food & drinks'!$F7,"") -> 0.24193548 | H7: =IFERROR('Food & drinks'!$G7*'Food & drinks'!$D7,"") -> 0.12096774 | I7: =IFERROR('Food & drinks'!$G7*'Food & drinks'!$E7,"") -> 0.48387097 | J7: 2 bottles
B8: Juice | C8: 15 | D8: 2 | E8: 0 | F8: =('Food & drinks'!$D8*TotalNiños)+('Food & drinks'!$E8*TotalAdultos) -> 40 | G8: =IFERROR('Food & drinks'!$C8/'Food & drinks'!$F8,"") -> 0.375 | H8: =IFERROR('Food & drinks'!$G8*'Food & drinks'!$D8,"") -> 0.75 | I8: =IFERROR('Food & drinks'!$G8*'Food & drinks'!$E8,"") -> 0 | J8: Apples and pinaple
B9: Wine | C9: 50 | D9: 0 | E9: 2 | F9: =('Food & drinks'!$D9*TotalNiños)+('Food & drinks'!$E9*TotalAdultos) -> 52 | G9: =IFERROR('Food & drinks'!$C9/'Food & drinks'!$F9,"") -> 0.96153846 | H9: =IFERROR('Food & drinks'!$G9*'Food & drinks'!$D9,"") -> 0 | I9: =IFERROR('Food & drinks'!$G9*'Food & drinks'!$E9,"") -> 1.9230769
B10: Cake | C10: 75 | D10: 1 | E10: 1 | F10: =('Food & drinks'!$D10*TotalNiños)+('Food & drinks'!$E10*TotalAdultos) -> 46 | G10: =IFERROR('Food & drinks'!$C10/'Food & drinks'!$F10,"") -> 1.6304348 | H10: =IFERROR('Food & drinks'!$G10*'Food & drinks'!$D10,"") -> 1.6304348 | I10: =IFERROR('Food & drinks'!$G10*'Food & drinks'!$E10,"") -> 1.6304348 | J10: Treserve at local bakery
B11: Ice Cream | C11: 20 | D11: 1 | E11: 1.5 | F11: =('Food & drinks'!$D11*TotalNiños)+('Food & drinks'!$E11*TotalAdultos) -> 59 | G11: =IFERROR('Food & drinks'!$C11/'Food & drinks'!$F11,"") -> 0.33898305 | H11: =IFERROR('Food & drinks'!$G11*'Food & drinks'!$D11,"") -> 0.33898305 | I11: =IFERROR('Food & drinks'!$G11*'Food & drinks'!$E11,"") -> 0.50847458 | J11: Vanilla and chocolate
B12: Pudding | C12: 15 | D12: 1 | E12: 0 | F12: =('Food & drinks'!$D12*TotalNiños)+('Food & drinks'!$E12*TotalAdultos) -> 20 | G12: =IFERROR('Food & drinks'!$C12/'Food & drinks'!$F12,"") -> 0.75 | H12: =IFERROR('Food & drinks'!$G12*'Food & drinks'!$D12,"") -> 0.75 | I12: =IFERROR('Food & drinks'!$G12*'Food & drinks'!$E12,"") -> 0
B13: Mushrooms | C13: 32 | D13: 1 | E13: 2 | F13: =('Food & drinks'!$D13*TotalNiños)+('Food & drinks'!$E13*TotalAdultos) -> 72 | G13: =IFERROR('Food & drinks'!$C13/'Food & drinks'!$F13,"") -> 0.44444444 | H13: =IFERROR('Food & drinks'!$G13*'Food & drinks'!$D13,"") -> 0.44444444 | I13: =IFERROR('Food & drinks'!$G13*'Food & drinks'!$E13,"") -> 0.88888889
B14: Bruschetta | C14: 22 | D14: 0 | E14: 3 | F14: =('Food & drinks'!$D14*TotalNiños)+('Food & drinks'!$E14*TotalAdultos) -> 78 | G14: =IFERROR('Food & drinks'!$C14/'Food & drinks'!$F14,"") -> 0.28205128 | H14: =IFERROR('Food & drinks'!$G14*'Food & drinks'!$D14,"") -> 0 | I14: =IFERROR('Food & drinks'!$G14*'Food & drinks'!$E14,"") -> 0.84615385 | J14: Tomate and basil
B15: Smoke salmon | C15: 50 | D15: 1 | E15: 2 | F15: =('Food & drinks'!$D15*TotalNiños)+('Food & drinks'!$E15*TotalAdultos) -> 72 | G15: =IFERROR('Food & drinks'!$C15/'Food & drinks'!$F15,"") -> 0.69444444 | H15: =IFERROR('Food & drinks'!$G15*'Food & drinks'!$D15,"") -> 0.69444444 | I15: =IFERROR('Food & drinks'!$G15*'Food & drinks'!$E15,"") -> 1.3888889
B16: Bread | C16: 20 | D16: 1 | E16: 2 | F16: =('Food & drinks'!$D16*TotalNiños)+('Food & drinks'!$E16*TotalAdultos) -> 72 | G16: =IFERROR('Food & drinks'!$C16/'Food & drinks'!$F16,"") -> 0.27777778 | H16: =IFERROR('Food & drinks'!$G16*'Food & drinks'!$D16,"") -> 0.27777778 | I16: =IFERROR('Food & drinks'!$G16*'Food & drinks'!$E16,"") -> 0.55555556 | J16: 4 bagette
B17: Cheese | C17: 10 | D17: 1 | E17: 2 | F17: =('Food & drinks'!$D17*TotalNiños)+('Food & drinks'!$E17*TotalAdultos) -> 72 | G17: =IFERROR('Food & drinks'!$C17/'Food & drinks'!$F17,"") -> 0.13888889 | H17: =IFERROR('Food & drinks'!$G17*'Food & drinks'!$D17,"") -> 0.13888889 | I17: =IFERROR('Food & drinks'!$G17*'Food & drinks'!$E17,"") -> 0.27777778 | J17: 2 big tubes
B18: Olives | C18: 12 | D18: 1 | E18: 2 | F18: =('Food & drinks'!$D18*TotalNiños)+('Food & drinks'!$E18*TotalAdultos) -> 72 | G18: =IFERROR('Food & drinks'!$C18/'Food & drinks'!$F18,"") -> 0.16666667 | H18: =IFERROR('Food & drinks'!$G18*'Food & drinks'!$D18,"") -> 0.16666667 | I18: =IFERROR('Food & drinks'!$G18*'Food & drinks'!$E18,"") -> 0.33333333 | J18: 3 cans
B19: Chicken nuggets | C19: 45 | D19: 2 | E19: 4 | F19: =('Food & drinks'!$D19*TotalNiños)+('Food & drinks'!$E19*TotalAdultos) -> 144 | G19: =IFERROR('Food & drinks'!$C19/'Food & drinks'!$F19,"") -> 0.3125 | H19: =IFERROR('Food & drinks'!$G19*'Food & drinks'!$D19,"") -> 0.625 | I19: =IFERROR('Food & drinks'!$G19*'Food & drinks'!$E19,"") -> 1.25 | J19: Local roastery
B20: Humus | C20: 10 | D20: 4 | E20: 6 | F20: =('Food & drinks'!$D20*TotalNiños)+('Food & drinks'!$E20*TotalAdultos) -> 236 | G20: =IFERROR('Food & drinks'!$C20/'Food & drinks'!$F20,"") -> 0.042372881 | H20: =IFERROR('Food & drinks'!$G20*'Food & drinks'!$D20,"") -> 0.16949153 | I20: =IFERROR('Food & drinks'!$G20*'Food & drinks'!$E20,"") -> 0.25423729 | J20: Prepare it the night before party
B21: Chips | C21: 14 | D21: 4 | E21: 6 | F21: =('Food & drinks'!$D21*TotalNiños)+('Food & drinks'!$E21*TotalAdultos) -> 236 | G21: =IFERROR('Food & drinks'!$C21/'Food & drinks'!$F21,"") -> 0.059322034 | H21: =IFERROR('Food & drinks'!$G21*'Food & drinks'!$D21,"") -> 0.23728814 | I21: =IFERROR('Food & drinks'!$G21*'Food & drinks'!$E21,"") -> 0.3559322
B22: Salad | C22: 30 | D22: 4 | E22: 10 | F22: =('Food & drinks'!$D22*TotalNiños)+('Food & drinks'!$E22*TotalAdultos) -> 340 | G22: =IFERROR('Food & drinks'!$C22/'Food & drinks'!$F22,"") -> 0.088235294 | H22: =IFERROR('Food & drinks'!$G22*'Food & drinks'!$D22,"") -> 0.35294118 | I22: =IFERROR('Food & drinks'!$G22*'Food & drinks'!$E22,"") -> 0.88235294
B23: Cheddar cheese | C23: 15 | D23: 5 | E23: 10 | F23: =('Food & drinks'!$D23*TotalNiños)+('Food & drinks'!$E23*TotalAdultos) -> 360 | G23: =IFERROR('Food & drinks'!$C23/'Food & drinks'!$F23,"") -> 0.041666667 | H23: =IFERROR('Food & drinks'!$G23*'Food & drinks'!$D23,"") -> 0.20833333 | I23: =IFERROR('Food & drinks'!$G23*'Food & drinks'!$E23,"") -> 0.41666667
B24: Salty biscuit | C24: 25 | D24: 5 | E24: 10 | F24: =('Food & drinks'!$D24*TotalNiños)+('Food & drinks'!$E24*TotalAdultos) -> 360 | G24: =IFERROR('Food & drinks'!$C24/'Food & drinks'!$F24,"") -> 0.069444444 | H24: =IFERROR('Food & drinks'!$G24*'Food & drinks'!$D24,"") -> 0.34722222 | I24: =IFERROR('Food & drinks'!$G24*'Food & drinks'!$E24,"") -> 0.69444444
B25: Total | C25: =SUBTOTAL(109,C7:C24) -> 475 | D25: =SUBTOTAL(109,D7:D24) -> 34.5 | E25: =SUBTOTAL(109,E7:E24) -> 65.5 | F25: =SUBTOTAL(109,F7:F24) -> 2393 | G25: =SUBTOTAL(109,G7:G24) -> 6.9157066 | H25: =SUBTOTAL(109,H7:H24) -> 7.2528842 | I25: =SUBTOTAL(109,I7:I24) -> 12.690089

Sheet Venue & others
C1: Venue & Others
B7: Venue and equipment | C7: Cost | D7: Already Bought | E7: Notes
B8: Venue renting | C8: 250 | D8: Yes
B9: Table clothing | C9: 30 | D9: Yes | E9: Rent
B10: Table and chairs | C10: 0 | E10: Included in venue rent
B11: Napkins for the appetizer | C11: 25
B12: Napkins for the diner | C12: 20 | E12: Rent
B13: Waiter service | C13: 50 | E13: Rent
B14: Glassware | C14: 25 | E14: Rent
B15: Total | C15: =SUBTOTAL(109,C8:C14) -> 400
B18: Decoration | C18: Cost | D18: Already Bought | E18: Notes
B19: Balloons | C19: 25
B20: Helum bottle | C20: 50 | E20: Rent
B21: Centerpieces | C21: 100 | D21: Yes | E21: 10 in total
B22: Glass vases | C22: 0 | E22: Provided by Laura
B23: Total | C23: =SUBTOTAL(109,C19:C22) -> 175
B26: Others | C26: Cost | D26: Already Bought | E26: Notes
B27: Invitations | C27: 50 | D27: Yes
B28: Postage | C28: 60 | D28: Yes
B29: Photographer | C29: 125 | E29: 2 hours (14:00 to 16:00)
B30: Photocall | C30: 50
B31: Total | C31: =SUBTOTAL(109,C27:C30) -> 285

Sheet Site Map
I1: Chairs' Layout
AH40: *1 Square = 1 ft aprox.
A41: Notes | T41: =" Total confirmed guests: "&InvitadosConfirmados -> Total confirmed guests: 46
T42: You can use any of the following table layout:
U43: =ROUNDUP(InvitadosConfirmados/6,0)&" round table of 140 cm (6 seats)" -> 8 round table of 140 cm (6 seats)
U44: =ROUNDUP(InvitadosConfirmados/8,0) &" round table of 150 cm (8 seats)" -> 6 round table of 150 cm (8 seats)
U45: =ROUNDUP(InvitadosConfirmados/10,0)&" round table of 180 cm (10 seats)" -> 5 round table of 180 cm (10 seats)
U46: =ROUNDUP(InvitadosConfirmados/6,0)& " square tables 75x180 cm (6seats)" -> 8 square tables 75x180 cm (6seats)
U47: =ROUNDUP(InvitadosConfirmados/8,0)&" square tables 75x240 cm (8seats)" -> 6 square tables 75x240 cm (8seats)
T48: (Recommended space between tables: 3 ft)

Sheet Agenda
C1: Agenda
B7: From | C7: TO | D7: Activity | E7: Kids | F7: Adults
B8: 10.00 | C8: 11.00
B9: 11.00 | C9: 12.00
B10: 12.00 | C10: 13.00
B11: 13.00 | C11: 14.00
B12: 14.00 | C12: 15.00
B13: 15.00 | C13: 16.00
B14: 16.00 | C14: 17.00
